BEGIN:VCALENDAR
VERSION:2.0
PRODID:-//Unie správců - ECPv5.16.4//NONSGML v1.0//EN
CALSCALE:GREGORIAN
METHOD:PUBLISH
X-WR-CALNAME:Unie správců
X-ORIGINAL-URL:https://www.uniespravcu.cz
X-WR-CALDESC:Akce na Unie správců
BEGIN:VTIMEZONE
TZID:Europe/Paris
BEGIN:DAYLIGHT
TZOFFSETFROM:+0100
TZOFFSETTO:+0200
TZNAME:CEST
DTSTART:20220327T010000
END:DAYLIGHT
BEGIN:STANDARD
TZOFFSETFROM:+0200
TZOFFSETTO:+0100
TZNAME:CET
DTSTART:20221030T010000
END:STANDARD
END:VTIMEZONE
BEGIN:VEVENT
DTSTART;TZID=Europe/Paris:20220411T093000
DTEND;TZID=Europe/Paris:20220411T153000
DTSTAMP:20260421T124414
CREATED:20220119T102828Z
LAST-MODIFIED:20220309T112118Z
UID:3562-1649669400-1649691000@www.uniespravcu.cz
SUMMARY:Aktuální otázky insolvenčního řízení s JUDr. Maršíkovou a Mgr. Krhutem - on.line
DESCRIPTION:Kód: 22041102 \n  \nTermín konání: 11. dubna 2022 – v době od 09:30 – 15:30 hodin \n  \nPřednášející:\nJUDr. Jolana Maršíková\, soudkyně a místopředsedkyně KS H. Králové\nMgr. Rostislav Krhut\, soudce KS Ostrava \n  \nCena WEB semináře: 2.490\,- Kč* – sleva pro člena Unie spolků insolvenčních správců 1.000\,-Kč * (k částce bude připočteno DPH v příslušné výši) \n  \nPřihlásit se můžete prostřednictvím přiložené přihlášky Přihláška ZDE:  na adresu: seminare@accretion.cz. \n  \nPo obdržení přihlášky Vám bude vystavena zálohová faktura a zaslána na Vaší e-mailovou adresu k úhradě. Platbu nutno provést do 07.04.2022 na účet číslo: 249438382/0300 vedený u ČSOB\, a.s. Opava\, pod variabilním symbolem – číslo zálohové faktury (do poznámky uveďte jméno plátce). \n  \nMateriály (prezentace) k semináři a odkaz pro přihlášení do „místnosti“ obdržíte 2-3 dny předem. \n  \nObsah přednášky: \n\nAktuální otázky insolvenčního řízení\nPřihlášky pohledávek\nAktuální judikatura
URL:https://www.uniespravcu.cz/event/aktualni-otazky-insolvencniho-rizeni-judr-marsikovou-mgr-krhutem-on-line-2/
CATEGORIES:Školení a kurzy
END:VEVENT
END:VCALENDAR