BEGIN:VCALENDAR
VERSION:2.0
PRODID:-//Unie správců - ECPv5.16.4//NONSGML v1.0//EN
CALSCALE:GREGORIAN
METHOD:PUBLISH
X-WR-CALNAME:Unie správců
X-ORIGINAL-URL:https://www.uniespravcu.cz
X-WR-CALDESC:Akce na Unie správců
BEGIN:VTIMEZONE
TZID:Europe/Paris
BEGIN:DAYLIGHT
TZOFFSETFROM:+0100
TZOFFSETTO:+0200
TZNAME:CEST
DTSTART:20180325T010000
END:DAYLIGHT
BEGIN:STANDARD
TZOFFSETFROM:+0200
TZOFFSETTO:+0100
TZNAME:CET
DTSTART:20181028T010000
END:STANDARD
END:VTIMEZONE
BEGIN:VEVENT
DTSTART;TZID=Europe/Paris:20181004T091500
DTEND;TZID=Europe/Paris:20181004T151500
DTSTAMP:20260420T073256
CREATED:20180823T065016Z
LAST-MODIFIED:20180823T065016Z
UID:3034-1538644500-1538666100@www.uniespravcu.cz
SUMMARY:Aktuální otázky řešení úpadku oddlužením\, oddlužení ve světle připravované novely insolvenčního zákona
DESCRIPTION:Kód: 18100420 \n  \nTermín konání:     04. října 2018 – v době od 9:15 – 15:15 hodin  \n                               (prezence od 8:45 hod.) \n                                \nMísto konání: Krajský soud v Hradci Králové\, \n                                 Československé armády 218\, Hradec Králové \n  \nPřednášející: JUDr. Jolana Maršíková \n                         soudkyně a místopředsedkyně KS v H. Králové \n  \nCena:                                                                 1.990\,- Kč \nCena pro člena Unie spolků insolvenčních správců 990\,- Kč \n(k částce bude připočteno DPH ve výši 21%) \n  \nPřihlásit se můžete prostřednictvím přiložené přihlášky 2018_10_04 Přihláška na adresu: seminare@accretion.cz nejpozději do 26. 09. 2018. \nPo obdržení přihlášky Vám bude vystavena zálohová faktura a zaslána na Vaší e-mailovou adresu k úhradě. Platbu nutno provést do 26. 09. 2018 na účet číslo: 249438382/ 0300 vedený u ČSOB\, a.s. Opava\, pod variabilním symbolem – číslo zálohové faktury (do poznámky uveďte jméno plátce). Daňový doklad bude předán při prezenci. \n  \nÚčastnický poplatek zahrnuje 1 školící den včetně podkladů\, občerstvení po celý den vč. oběda a nelze jej vrátit. \n  \nDěkujeme a budeme se těšit na vaši účast na semináři. \n  \nObsah přednášky: \n\nPřezkum pohledávek v oddlužení\nPlnění oddlužení a zprávové povinnosti\nZávěrečná fáze oddlužení\nSeznámení se zásadními změnami v institutu oddlužení podle projednávané novely\nDiskuze dle dotazu účastníků semináře\n\n  \n  \n  \nSvé návrhy na obsah přednášky a dotazy ke zpracování prosím zašlete v době co nejkratší na adresu: info@uniespravcu.cz nebo seminare@accretion.cz
URL:https://www.uniespravcu.cz/event/aktualni-otazky-reseni-upadku-oddluzenim-oddluzeni-ve-svetle-pripravovane-novely-insolvencniho-zakona/
LOCATION:Krajský soud v Hradci Králové\, Československé armády 218\, Hradec Králové\, Česká republika
CATEGORIES:Školení a kurzy
ORGANIZER;CN="Unie%20spolk%C5%AF%20insolven%C4%8Dn%C3%ADch%20spr%C3%A1vc%C5%AF%20prost%C5%99ednictv%C3%ADm%20ACCRETION%20s.r.o.":MAILTO:info@ismorava.cz
END:VEVENT
END:VCALENDAR