BEGIN:VCALENDAR
VERSION:2.0
PRODID:-//Unie správců - ECPv5.16.4//NONSGML v1.0//EN
CALSCALE:GREGORIAN
METHOD:PUBLISH
X-WR-CALNAME:Unie správců
X-ORIGINAL-URL:https://www.uniespravcu.cz
X-WR-CALDESC:Akce na Unie správců
BEGIN:VTIMEZONE
TZID:Europe/Paris
BEGIN:DAYLIGHT
TZOFFSETFROM:+0100
TZOFFSETTO:+0200
TZNAME:CEST
DTSTART:20180325T010000
END:DAYLIGHT
BEGIN:STANDARD
TZOFFSETFROM:+0200
TZOFFSETTO:+0100
TZNAME:CET
DTSTART:20181028T010000
END:STANDARD
END:VTIMEZONE
BEGIN:VEVENT
DTSTART;TZID=Europe/Paris:20180411T091500
DTEND;TZID=Europe/Paris:20180411T151500
DTSTAMP:20260420T154347
CREATED:20180329T085255Z
LAST-MODIFIED:20180329T085341Z
UID:2892-1523438100-1523459700@www.uniespravcu.cz
SUMMARY:Aktuální výkladové otázky insolvenčního práva\, zejména oddlužení
DESCRIPTION:Cena:                                                  1.990\,- Kč \n                                 Členové Unie spolků insolvenčních správců sleva 1000\,- Kč \n(ke všem částkám bude připočteno DPH ve výši 21%). \nPřihlásit se můžete prostřednictvím přiložené přihlášky 2018_04_11 Přihláška na adresu: seminare@accretion.cz nejpozději do 06. 04. 2018. \nPo obdržení přihlášky Vám bude vystavena zálohová faktura a zaslána na Vaší e-mailovou adresu k úhradě. Platbu nutno provést do 06. 04. 2018 na účet číslo: 249438382/ 0300 vedený u ČSOB\, a.s. Opava\, pod variabilním symbolem – číslo zálohové faktury (do poznámky uveďte jméno plátce). Daňový doklad bude předán při prezenci. \n  \nÚčastnický poplatek zahrnuje 1 školící den včetně podkladů\, občerstvení po celý den vč. oběda a nelze jej vrátit.
URL:https://www.uniespravcu.cz/event/aktualni-vykladove-otazky-insolvencniho-prava-zejmena-oddluzeni-2/
LOCATION:KSHK (jednací síň č. 14)\, Československé armády 218\, Hradec Králové\, Česká republika
CATEGORIES:Školení a kurzy
ORGANIZER;CN="Unie%20spolk%C5%AF%20insolven%C4%8Dn%C3%ADch%20spr%C3%A1vc%C5%AF%20prost%C5%99ednictv%C3%ADm%20ACCRETION%20s.r.o.":MAILTO:info@ismorava.cz
END:VEVENT
END:VCALENDAR