BEGIN:VCALENDAR
VERSION:2.0
PRODID:-//Unie správců - ECPv5.16.4//NONSGML v1.0//EN
CALSCALE:GREGORIAN
METHOD:PUBLISH
X-WR-CALNAME:Unie správců
X-ORIGINAL-URL:https://www.uniespravcu.cz
X-WR-CALDESC:Akce na Unie správců
BEGIN:VTIMEZONE
TZID:Europe/Paris
BEGIN:DAYLIGHT
TZOFFSETFROM:+0100
TZOFFSETTO:+0200
TZNAME:CEST
DTSTART:20180325T010000
END:DAYLIGHT
BEGIN:STANDARD
TZOFFSETFROM:+0200
TZOFFSETTO:+0100
TZNAME:CET
DTSTART:20181028T010000
END:STANDARD
END:VTIMEZONE
BEGIN:VEVENT
DTSTART;TZID=Europe/Paris:20180621T093000
DTEND;TZID=Europe/Paris:20180621T153000
DTSTAMP:20260420T114539
CREATED:20180517T132338Z
LAST-MODIFIED:20180517T132338Z
UID:2963-1529573400-1529595000@www.uniespravcu.cz
SUMMARY:Aktuální výkladové otázky insolvenčního práva\, zejména oddlužení
DESCRIPTION:Kód: 18062115 \n  \nTermín konání:     21. červen 2018 – v době od 9:30 – 15:30 hodin  \n                               (prezence od 9:00 hod.) \n                                \nMísto konání:         BEA campus Olomouc\, \ntř. Kosmonautů 1288/1\, 779 00 Olomouc – Hodolany \n  \n  \nPřednášející:          JUDr. Jolana Maršíková \n                                                                    soudkyně a místopředsedkyně KS v H. Králové \n  \n  \nObsah přednášky: naleznete na druhé straně \n  \nCena:                                                    2.347\,- Kč \n                                 Cena pro člena Unie spolků insolvenčních správců 1.347\,- Kč \n(ke všem částkám bude připočteno DPH ve výši 21%). \n  \nPřihlásit se můžete prostřednictvím přiložené přihlášky 2018_06_21 Přihláška na adresu: seminare@accretion.cz nebo info@uniespravcu.cz nejpozději do 15. 06. 2018. \nPo obdržení přihlášky Vám bude vystavena zálohová faktura a zaslána na Vaší e-mailovou adresu k úhradě. Platbu nutno provést do 15. 06. 2018 na účet číslo: 249438382/ 0300 vedený u ČSOB\, a.s. Opava\, pod variabilním symbolem – číslo zálohové faktury (do poznámky uveďte jméno plátce). Daňový doklad bude předán při prezenci. \n  \nÚčastnický poplatek zahrnuje 1 školící den včetně podkladů\, občerstvení po celý den vč. oběda a nelze jej vrátit.Děkujeme a budeme se těšit na vaši účast na semináři. \nObsah přednášky: \n\nZpracování přihlášek insolvenčním správcem\nPřezkum zejména v oddlužení\nZpeněžování majetkové podstaty\nRůzné dle námětů účastníků semináře\n\nSvé návrhy na obsah přednášky a dotazy ke zpracování prosím zašlete v době co nejkratší na adresu: info@uniespravcu.cz nebo seminare@accretion.cz
URL:https://www.uniespravcu.cz/event/aktualni-vykladove-otazky-insolvencniho-prava-zejmena-oddluzeni-3/
LOCATION:BEA campus Olomouc\, tř. Kosmonautů 1288/1\, Olomouc - Hodolany\, 779 00\, Česká republika
CATEGORIES:Školení a kurzy
ORGANIZER;CN="Unie%20spolk%C5%AF%20insolven%C4%8Dn%C3%ADch%20spr%C3%A1vc%C5%AF%20prost%C5%99ednictv%C3%ADm%20ACCRETION%20s.r.o.":MAILTO:info@ismorava.cz
END:VEVENT
END:VCALENDAR