BEGIN:VCALENDAR
VERSION:2.0
PRODID:-//Unie správců - ECPv5.16.4//NONSGML v1.0//EN
CALSCALE:GREGORIAN
METHOD:PUBLISH
X-WR-CALNAME:Unie správců
X-ORIGINAL-URL:https://www.uniespravcu.cz
X-WR-CALDESC:Akce na Unie správců
BEGIN:VTIMEZONE
TZID:Europe/Paris
BEGIN:DAYLIGHT
TZOFFSETFROM:+0100
TZOFFSETTO:+0200
TZNAME:CEST
DTSTART:20180325T010000
END:DAYLIGHT
BEGIN:STANDARD
TZOFFSETFROM:+0200
TZOFFSETTO:+0100
TZNAME:CET
DTSTART:20181028T010000
END:STANDARD
END:VTIMEZONE
BEGIN:VEVENT
DTSTART;TZID=Europe/Paris:20180215T093000
DTEND;TZID=Europe/Paris:20180215T153000
DTSTAMP:20260420T154347
CREATED:20180112T094334Z
LAST-MODIFIED:20180112T095026Z
UID:2841-1518687000-1518708600@www.uniespravcu.cz
SUMMARY:Aktuální výkladové otázky insolvenčního práva\, zejména oddlužení
DESCRIPTION:Cena pro člena Unie spolků insolvenčních správců 1.299\,- Kč \n(ke všem částkám bude připočteno DPH ve výši 21%). \nPřihlásit se můžete prostřednictvím přiložené přihlášky zde 2018_02_15 Přihláška na adresu: seminare@accretion.cz nejpozději \ndo 11. 02. 2018. \nPo obdržení přihlášky Vám bude vystavena zálohová faktura a zaslána na Vaší e-mailovou adresu k úhradě. Platbu nutno provést do 11. 02. 2018 na účet číslo: 249438382/ 0300 vedený u ČSOB\, a.s. Opava\, pod variabilním symbolem – číslo zálohové faktury (do poznámky uveďte jméno plátce). Daňový doklad bude předán při prezenci. \nÚčastnický poplatek zahrnuje 1 školící den včetně podkladů\, občerstvení po celý den vč. oběda a nelze jej vrátit. \n Děkujeme a budeme se těšit na vaši účast na semináři. \nObsah přednášky: \n\nZpracování přihlášek insolvenčním správcem\nPřezkum zejména v oddlužení\nZpeněžování majetkové podstaty\nRůzné dle námětů účastníků semináře\n\nSvé návrhy na obsah přednášky a dotazy ke zpracování prosím zašlete v době co nejkratší na adresu: info@uniespravcu.cz nebo seminare@accretion.cz
URL:https://www.uniespravcu.cz/event/aktualni-vykladove-otazky-insolvencniho-prava-zejmena-oddluzeni/
LOCATION:KD AKORD\, nám. SNP 1\, Ostrava-Zábřeh\, Moravskoslezský\, 70030\, Česká republika
CATEGORIES:Školení a kurzy
ORGANIZER;CN="Unie%20spolk%C5%AF%20insolven%C4%8Dn%C3%ADch%20spr%C3%A1vc%C5%AF%20prost%C5%99ednictv%C3%ADm%20ACCRETION%20s.r.o.":MAILTO:info@uniespravcu.cz
END:VEVENT
END:VCALENDAR