BEGIN:VCALENDAR
VERSION:2.0
PRODID:-//Unie správců - ECPv5.16.4//NONSGML v1.0//EN
CALSCALE:GREGORIAN
METHOD:PUBLISH
X-WR-CALNAME:Unie správců
X-ORIGINAL-URL:https://www.uniespravcu.cz
X-WR-CALDESC:Akce na Unie správců
BEGIN:VTIMEZONE
TZID:Europe/Paris
BEGIN:DAYLIGHT
TZOFFSETFROM:+0100
TZOFFSETTO:+0200
TZNAME:CEST
DTSTART:20180325T010000
END:DAYLIGHT
BEGIN:STANDARD
TZOFFSETFROM:+0200
TZOFFSETTO:+0100
TZNAME:CET
DTSTART:20181028T010000
END:STANDARD
END:VTIMEZONE
BEGIN:VEVENT
DTSTART;TZID=Europe/Paris:20181115T090000
DTEND;TZID=Europe/Paris:20181115T160000
DTSTAMP:20260420T071303
CREATED:20181010T080927Z
LAST-MODIFIED:20181101T112257Z
UID:3065-1542272400-1542297600@www.uniespravcu.cz
SUMMARY:Existence\, platnost\, účinnost\, výklad a obsah smlouvy
DESCRIPTION:Kód: 18111528 \n Termín konání:     15. listopadu 2018 – v době od 9:00 – 16:00 hodin  \n                               (prezence od 8:30 hod.) \n Místo konání: Bredovský dvůr (konferenční místnost Sydney) \n                               Olivova 2096/4\, Praha 1 \n  \nPřednášející:   JUDr. Petr Čech\, Ph.D.\, LL.M. \n                         odborný asistent na katedře obchodního práva Právnické fakulty UK\,spolupracovník advokátní kanceláře Glatzová a spol.\, \nporadce ministra spravedlnosti\, byl členem expertní skupiny pro NOZ \n  \n Cena:                                                                      2.290\,- Kč \n  \nCena pro člena Unie spolků insolvenčních správců 1.890\,- Kč \n(ke všem částkám bude připočteno DPH ve výši 21%) \n  \nCena oběd (polévka a hlavní chod):                      151\,- Kč \n(k částce bude připočteno DPH ve výši 15%\, obědy nejsou povinnou \nsoučástí účastnického poplatku) \n  \n  \n  \nPřihlásit se můžete prostřednictvím přiložené přihlášky  2018_11_15 Přihláška na adresu: seminare@accretion.cz nejpozději \ndo 08. 11. 2018. \nPo obdržení přihlášky Vám bude vystavena zálohová faktura a zaslána na Vaší e-mailovou adresu k úhradě. Platbu nutno provést do 08. 11. 2018 na účet číslo: 249438382/ 0300 vedený u ČSOB\, a.s. Opava\, pod variabilním symbolem – číslo zálohové faktury (do poznámky uveďte jméno plátce). Daňový doklad bude předán při prezenci. \n  \nÚčastnický poplatek zahrnuje 1 školící den včetně podkladů\, občerstvení během školících bloků a nelze jej vrátit. \n  \nSvé návrhy na obsah přednášky a dotazy ke zpracování prosím zašlete v době co nejkratší na adresu: info@uniespravcu.cz nebo seminare@accretion.cz  \n  \nDěkujeme a budeme se těšit na vaši účast na semináři. \n  \nObsah přednášky: \n\n\nhlavní důvody zdánlivosti / neplatnosti právního jednání\n\n\n\nurčitost – její důsledky a judikované příklady\n\n\n\n \nrozpor se zákonem a jeho obcházení\, rozpor s dobrými mravy (kdy je dle judikatury úrok / úrok z prodlení / smluvní pokuta nemravně vysoká\, další judikované případy nemravnosti / nepoctivosti)\npočáteční nemožnost plnění (prodej věci\, kterou prodávající již / ještě nevlastní\, změna / zrušení / odstoupení od splněné smlouvy)\nnepřiměřená ujednání ve spotřebitelských smlouvách a vůči slabší straně (včetně adhesních smluv)\nforma – kdy povinně písemná forma\, jak naplnit\, důsledky nedodržení\, aktuálně z poslední judikatury\nomyl a jeho právní důsledky\n\n\n\n\n\núčinnost právního jednání\npodmínky vs. časová určení a jejich vzájemná kombinace\núskalí spojená s doručováním\nrelativní neúčinnost (zkracování věřitele) – s důrazem na poslední průlomovou judikaturu\, která představuje značné riziko pro nabyvatele věcí od dlužníků\n\n\n\n\n\nvýklad právního jednání\nzákladní výkladová pravidla\njudikované příklady z poslední doby\n\n\n \n\n\nhrubý nepoměr vzájemných plnění a jeho důsledky\nneúměrné zkrácení\nlichva\n\n\n\n\n\ndalší otázky\n\nvznik smlouvy – možná úskalí kontraktačního procesu\nobchodní podmínky\, jejich inkorporace do smlouvy a korektivy\nvýznam rámcových smluv\n 
URL:https://www.uniespravcu.cz/event/najem-kupni-smlouva-a-odpovednost-za-vady/
LOCATION:Bredovský Dvůr (konf. místnost SYDNEY)\, Olivova 2096/4\, Praha\, Hl. město Praha\, 11000\, Česká republika
CATEGORIES:Školení a kurzy
ORGANIZER;CN="Unie%20spolk%C5%AF%20insolven%C4%8Dn%C3%ADch%20spr%C3%A1vc%C5%AF%20prost%C5%99ednictv%C3%ADm%20ACCRETION%20s.r.o.":MAILTO:info@ismorava.cz
END:VEVENT
END:VCALENDAR