BEGIN:VCALENDAR
VERSION:2.0
PRODID:-//Unie správců - ECPv5.16.4//NONSGML v1.0//EN
CALSCALE:GREGORIAN
METHOD:PUBLISH
X-WR-CALNAME:Unie správců
X-ORIGINAL-URL:https://www.uniespravcu.cz
X-WR-CALDESC:Akce na Unie správců
BEGIN:VTIMEZONE
TZID:Europe/Paris
BEGIN:DAYLIGHT
TZOFFSETFROM:+0100
TZOFFSETTO:+0200
TZNAME:CEST
DTSTART:20190331T010000
END:DAYLIGHT
BEGIN:STANDARD
TZOFFSETFROM:+0200
TZOFFSETTO:+0100
TZNAME:CET
DTSTART:20191027T010000
END:STANDARD
END:VTIMEZONE
BEGIN:VEVENT
DTSTART;TZID=Europe/Paris:20190314T090000
DTEND;TZID=Europe/Paris:20190314T160000
DTSTAMP:20260421T175746
CREATED:20190115T072525Z
LAST-MODIFIED:20190211T064811Z
UID:3168-1552554000-1552579200@www.uniespravcu.cz
SUMMARY:Novela insolvenčního zákona 2019 - Ostrava
DESCRIPTION:SEMINÁŘ JE JIŽ PLNĚ OBSAZEN!!!\n\nObsah přednášky:\n\nNovela oddlužení\nNovela  postavení a činnosti ins. správce\nOstatní novelizovaná ustanovení
URL:https://www.uniespravcu.cz/event/novela-insolvencniho-zakona-2019-ostrava/
LOCATION:Kulturní dům AKORD\, nám. SNP 1\, Ostrava - Zábřeh\, Česká republika
CATEGORIES:Školení a kurzy
ORGANIZER;CN="Unie%20spolk%C5%AF%20insolven%C4%8Dn%C3%ADch%20spr%C3%A1vc%C5%AF%20prost%C5%99ednictv%C3%ADm%20ACCRETION%20s.r.o.":MAILTO:info@ismorava.cz
END:VEVENT
END:VCALENDAR