BEGIN:VCALENDAR
VERSION:2.0
PRODID:-//Unie správců - ECPv5.16.4//NONSGML v1.0//EN
CALSCALE:GREGORIAN
METHOD:PUBLISH
X-WR-CALNAME:Unie správců
X-ORIGINAL-URL:https://www.uniespravcu.cz
X-WR-CALDESC:Akce na Unie správců
BEGIN:VTIMEZONE
TZID:Europe/Paris
BEGIN:DAYLIGHT
TZOFFSETFROM:+0100
TZOFFSETTO:+0200
TZNAME:CEST
DTSTART:20170326T010000
END:DAYLIGHT
BEGIN:STANDARD
TZOFFSETFROM:+0200
TZOFFSETTO:+0100
TZNAME:CET
DTSTART:20171029T010000
END:STANDARD
END:VTIMEZONE
BEGIN:VEVENT
DTSTART;TZID=Europe/Paris:20170919T093000
DTEND;TZID=Europe/Paris:20170919T160000
DTSTAMP:20260420T193451
CREATED:20170908T062618Z
LAST-MODIFIED:20170908T062618Z
UID:2743-1505813400-1505836800@www.uniespravcu.cz
SUMMARY:Novela IZ a praktické zkušenosti z její aplikace - Praha
DESCRIPTION:Přednášející: JUDr. Jolana Maršíková\, soudkyně a místopředsedkyně KS v H.Králové \n                         Mgr.Rostislav Krhut\, soudce\, místopředseda KS v Ostravě \n  \nCena: 2400\,- Kč členové Unie spolků insolvenčních správců sleva 1.000\,- Kč\n(ke všem částkám bude připočteno DPH ve výši 21%) \n  \nPřihlásit se můžete prostřednictvím přiložené přihlášky 2017_09_19_Přihláška_PHA na adresu: seminare@accretion.cz nejpozději do 14. 9. 2017.\nPo obdržení přihlášky Vám bude vystavena zálohová faktura a zaslána na Vaší e-mailovou adresu k úhradě. Platbu nutno provést do 14. 9. 2017 na účet číslo:  249438382/ 0300  vedený u ČSOB\, a.s. Opava\, pod variabilním symbolem – číslo zálohové faktury (do poznámky uveďte jméno plátce). Daňový doklad bude předán při prezenci. \n  \nÚčastnický poplatek zahrnuje 1 školící den\, přichystané materiály\, občerstvení po celý den vč. oběda a nelze jej vrátit. \n  \nSvé dotazy ke zpracování je vhodné předem zaslat na adresu:  seminare@accretion.cz.\nKapacita na plánovaný seminář je omezená\, v případě zájmu prosím zašlete své přihlášky v co nejbližším termínu. \n  \n  \nObsah přednášky: \n  \n\nDopad novely na dříve zahájená řízení\nÚvodní fáze oddlužení\nPráce s formuláři\nDotazy\, Diskuze\n\n 
URL:https://www.uniespravcu.cz/event/novela-iz-a-prakticke-zkusenosti-z-jeji-aplikace-praha/
LOCATION:GreenPoint\, s.r.o.\, Dvouletky 529/42\, Praha\, Středočeský\, 10000\, Česká republika
CATEGORIES:Školení a kurzy
ORGANIZER;CN="Unie%20spolk%C5%AF%20insolven%C4%8Dn%C3%ADch%20spr%C3%A1vc%C5%AF%20prost%C5%99ednictv%C3%ADm%20ACCRETION%20s.r.o.":MAILTO:info@ismorava.cz
END:VEVENT
END:VCALENDAR