BEGIN:VCALENDAR
VERSION:2.0
PRODID:-//Unie správců - ECPv5.16.4//NONSGML v1.0//EN
CALSCALE:GREGORIAN
METHOD:PUBLISH
X-WR-CALNAME:Unie správců
X-ORIGINAL-URL:https://www.uniespravcu.cz
X-WR-CALDESC:Akce na Unie správců
BEGIN:VTIMEZONE
TZID:Europe/Paris
BEGIN:DAYLIGHT
TZOFFSETFROM:+0100
TZOFFSETTO:+0200
TZNAME:CEST
DTSTART:20180325T010000
END:DAYLIGHT
BEGIN:STANDARD
TZOFFSETFROM:+0200
TZOFFSETTO:+0100
TZNAME:CET
DTSTART:20181028T010000
END:STANDARD
END:VTIMEZONE
BEGIN:VEVENT
DTSTART;TZID=Europe/Paris:20180522T091500
DTEND;TZID=Europe/Paris:20180522T161500
DTSTAMP:20260420T154842
CREATED:20180417T140215Z
LAST-MODIFIED:20180417T140215Z
UID:2919-1526980500-1527005700@www.uniespravcu.cz
SUMMARY:Ochrana osobních údajů podle GDPR se zaměřením na  insolvenční správce
DESCRIPTION:Cena:         1.890\,- Kč\nCena pro člena Unie spolků insolvenčních správců 1.490\,- Kč\n(ke všem částkám bude připočteno DPH ve výši 21%). \n  \n  \nPřihlásit se můžete prostřednictvím přiložené přihlášky 2018_05_22 Přihláška na adresu: seminare@accretion.cz nejpozději do 15. 05. 2018.\nPo obdržení přihlášky Vám bude vystavena zálohová faktura a zaslána na Vaší e-mailovou adresu k úhradě. Platbu nutno provést do 15. 05. 2018 na účet číslo:  249438382/ 0300  vedený u ČSOB\, a.s. Opava\, pod variabilním symbolem – číslo zálohové faktury (do poznámky uveďte jméno plátce). Daňový doklad bude předán při prezenci. \nÚčastnický poplatek zahrnuje 1 školící den včetně podkladů\, občerstvení po celý den vč. oběda a nelze jej vrátit. \nDěkujeme a budeme se těšit na vaši účast na semináři. \nObsah přednášky: \n  \n Regulatorní rámec nové úpravy ochrany osobních údajů \n Instituty GDPR ve vztahu k činnostem insolvenčního správce \n Povinnosti správců a zpracovatelů osobních údajů \n Standardizace nástrojů správců a zpracovatelů \n Princip odpovědnosti a prokazování souladu s GDPR \n Účely zpracování a zákonné požadavky \n Ochrana práv subjektů údajů v praxi insolvenčního správce \n Praktické zkušenosti s přípravou implementace GDPR a možná doporučení \n Dotazy a diskuze \n  \nSvé návrhy na obsah přednášky a dotazy ke zpracování prosím zašlete v době co nejkratší na adresu: info@uniespravcu.cz nebo seminare@accretion.cz
URL:https://www.uniespravcu.cz/event/ochrana-osobnich-udaju-podle-gdpr-se-zamerenim-na-insolvencni-spravce-3/
LOCATION:Regionální centrum Olomouc\, Jeremenkova 40B\, Olomouc - Hodolany\, 779 00
CATEGORIES:Školení a kurzy
ORGANIZER;CN="Unie%20spolk%C5%AF%20insolven%C4%8Dn%C3%ADch%20spr%C3%A1vc%C5%AF%20prost%C5%99ednictv%C3%ADm%20ACCRETION%20s.r.o.":MAILTO:info@uniespravcu.cz
END:VEVENT
END:VCALENDAR