BEGIN:VCALENDAR
VERSION:2.0
PRODID:-//Unie správců - ECPv5.16.4//NONSGML v1.0//EN
CALSCALE:GREGORIAN
METHOD:PUBLISH
X-WR-CALNAME:Unie správců
X-ORIGINAL-URL:https://www.uniespravcu.cz
X-WR-CALDESC:Akce na Unie správců
BEGIN:VTIMEZONE
TZID:Europe/Paris
BEGIN:DAYLIGHT
TZOFFSETFROM:+0100
TZOFFSETTO:+0200
TZNAME:CEST
DTSTART:20180325T010000
END:DAYLIGHT
BEGIN:STANDARD
TZOFFSETFROM:+0200
TZOFFSETTO:+0100
TZNAME:CET
DTSTART:20181028T010000
END:STANDARD
END:VTIMEZONE
BEGIN:VEVENT
DTSTART;TZID=Europe/Paris:20181214T094500
DTEND;TZID=Europe/Paris:20181214T164500
DTSTAMP:20260421T182533
CREATED:20181204T123931Z
LAST-MODIFIED:20181205T073837Z
UID:3125-1544780700-1544805900@www.uniespravcu.cz
SUMMARY:Péče řádného hospodáře a další povinnosti členů statutárních orgánů a dalších osob a podnikatelská seskupení
DESCRIPTION:Kód: 18121430 \n  \nTermín konání:     14. prosince 2018 – v době od 9:45 – 16:45 hodin  \n                               (prezence od 9:15 hod.) \n                                \nMísto konání:         Kulturní dům AKORD\,  \n                                 nám. SNP 1\, Ostrava – Zábřeh \n  \n  \nPřednášející:             Přednášející:          JUDr. Petr Čech\, Ph.D.\, LL.M. \n                                                                    odborný asistent na katedře obchodního práva Právnické fakulty UK\,                                                               spolupracovník advokátní kanceláře Glatzová a spol.\, \nporadce ministra spravedlnosti\, byl členem expertní skupiny pro NOZ \n  \n  \n  \nÚčastnický poplatek                                             2.275\,- Kč \nCena pro člena Unie spolků insolvenčních správců 1.875\,- Kč \n(k částce bude připočteno DPH ve výši 21%) \nCena oběd (polévka a hlavní chod):                      90\,- Kč \n(k částce bude připočteno DPH ve výši 15%\, obědy nejsou povinnou \nsoučástí účastnického poplatku \n  \n  \nPřihlásit se můžete prostřednictvím přiložené přihlášky 2018_12_14 Přihláška na adresu: seminare@accretion.cz nejpozději \ndo 10. 12. 2018. \nPo obdržení přihlášky Vám bude vystavena zálohová faktura a zaslána na Vaší e-mailovou adresu k úhradě. Platbu nutno provést do 10. 12. 2018 na účet číslo: 249438382/ 0300 vedený u ČSOB\, a.s. Opava\, pod variabilním symbolem – číslo zálohové faktury (do poznámky uveďte jméno plátce). Daňový doklad bude předán při prezenci. \nÚčastnický poplatek zahrnuje 1 školící den včetně podkladů\, občerstvení během školících bloků a nelze jej vrátit. \n  \n  \nSvé návrhy na obsah přednášky a dotazy ke zpracování prosím zašlete v době co nejkratší na adresu: info@uniespravcu.cz nebo seminare@accretion.cz  \n  \nDěkujeme a budeme se těšit na vaši účast na semináři. \n  \nObsah přednášky: \n  \n  \n  \n\npéče řádného hospodáře (včetně pravidla podnikatelského úsudku) a její praktické projevy (např. kterak unést důkazní břemeno o vynaložené péči)\n\n  \n\n\n\n \n\n\n\n\nnáhrada způsobené újmy a možnost modifikovat její rozsah a způsob\n\n  \n\n\n\n \n\n\n\n\ndalší důsledky porušení péče (vydat prospěch\, diskvalifikace z funkce)\n\n  \n\n\n\n \n\n\n\n\n(sankční) ručení člena orgánu za dluhy společnosti\, včetně za neřádné odvracení hrozícího úpadku\n\n  \n\n\n\n \n\n\n\n\nspolečnická žaloba na člena orgánu a hmotněprávní možnosti žalujícího společníka\n\n  \n\n\n\n \n\n\n\n\npřímá odpovědnost členů statutárních orgánů vůči třetím osobám za škodu způsobenou při výkonu funkce pro společnost\n\n  \n\n\n\n \n\n\n\n\npovinnost loajality společníků\, její projevy a důsledky porušení\n\n  \n\n\n\n \n\n\n\n\nvlivná\, ovládající\, řídící osoba – vymezení\, důsledky\, možnosti\, rizika\n\n  \n\n\n\n \n\n\n\n\nkoncernové „privilegium“ (koncept Rozenblum v českém právu) – předpoklady\, důsledky\, úskalí\n\n  \n\n\n\n \n\n\n\n\nnástroje ochrany mimostojících společníků\n\n  \n\n\n\n \n\n\n\n\npovinnosti vlivných / ovládajících a řídících osob při odvracení hrozícího úpadku ovlivněné / ovládané / řízené společnosti a odpovědnost za jejich porušení\n\n  \n 
URL:https://www.uniespravcu.cz/event/pece-radneho-hospodare-a-dalsi-povinnosti-clenu-statutarnich-organu-a-dalsich-osob-a-podnikatelska-seskupeni/
LOCATION:KD AKORD\, nám. SNP 1\, Ostrava\, Moravskoslezský\, 70030\, Česká republika
CATEGORIES:Školení a kurzy
ORGANIZER;CN="Unie%20spolk%C5%AF%20insolven%C4%8Dn%C3%ADch%20spr%C3%A1vc%C5%AF%20prost%C5%99ednictv%C3%ADm%20ACCRETION%20s.r.o.":MAILTO:info@ismorava.cz
END:VEVENT
END:VCALENDAR