BEGIN:VCALENDAR
VERSION:2.0
PRODID:-//Unie správců - ECPv5.16.4//NONSGML v1.0//EN
CALSCALE:GREGORIAN
METHOD:PUBLISH
X-WR-CALNAME:Unie správců
X-ORIGINAL-URL:https://www.uniespravcu.cz
X-WR-CALDESC:Akce na Unie správců
BEGIN:VTIMEZONE
TZID:Europe/Paris
BEGIN:DAYLIGHT
TZOFFSETFROM:+0100
TZOFFSETTO:+0200
TZNAME:CEST
DTSTART:20180325T010000
END:DAYLIGHT
BEGIN:STANDARD
TZOFFSETFROM:+0200
TZOFFSETTO:+0100
TZNAME:CET
DTSTART:20181028T010000
END:STANDARD
END:VTIMEZONE
BEGIN:VEVENT
DTSTART;TZID=Europe/Paris:20180315T091500
DTEND;TZID=Europe/Paris:20180315T161500
DTSTAMP:20260420T193619
CREATED:20180213T155257Z
LAST-MODIFIED:20180213T155257Z
UID:2857-1521105300-1521130500@www.uniespravcu.cz
SUMMARY:Podílové spoluvlastnictví
DESCRIPTION:Cena:2.290\,- Kč\nCena pro člena Unie spolků insolvenčních správců 1.890\,- Kč\n(ke všem částkám bude připočteno DPH ve výši 21%) \nPřihlásit se můžete prostřednictvím přiložené přihlášky zde na adresu: seminare@accretion.cz nejpozději\ndo 10. 03. 2018.\nPo obdržení přihlášky Vám bude vystavena zálohová faktura a zaslána na Vaší e-mailovou adresu k úhradě. Platbu nutno provést do 10. 03. 2018 na účet číslo: 249438382/ 0300 vedený u ČSOB\, a.s. Opava\, pod variabilním symbolem – číslo zálohové faktury (do poznámky uveďte jméno plátce). Daňový doklad bude předán při prezenci. \nÚčastnický poplatek zahrnuje 1 školící den včetně podkladů\, občerstvení po celý den vč. oběda a nelze jej vrátit. \nSvé návrhy na obsah přednášky a dotazy ke zpracování prosím zašlete v době co nejkratší na adresu: info@uniespravcu.cz nebo seminare@accretion.cz \nDěkujeme a budeme se těšit na vaši účast na semináři. \nOdborný program semináře: \n• Správa společné věci (exkurs) z pohledu stávající judikatury Nejvyššího soudu České republiky\n• podílové spoluvlastnictví a tzv. superficiální zásada (vysvětlení stavu vzniklého před 1. lednem 2014 a po 1. lednu 2014)\n• oddělení ze spoluvlastnictví (podstata\, praktická využitelnost\, srovnání se zrušení a vypořádáním spoluvlastnictví)\n• zrušení a vypořádání spoluvlastnictví – a) překážky zrušení a vypořádání spoluvlastnictví\, b) způsoby vypořádání spoluvlastnictví\, c) přiměřená náhrada při přikázání věci\, d) požadavek solventnosti spoluvlastníka\n• vypořádání spoluvlastnictví v tzv. širším smyslu\n• rozhodování o náhradě nákladů řízení ve sporech o zrušení a vypořádání podílového spoluvlastnictví z hlediska rozhodovací praxe Nejvyššího soudu České republiky\n• odklad zrušení spoluvlastnictví (vysvětlení podstaty a předpokladů\, smluvní možnost odkladu a rozhodovací oprávnění soudu) a změna odkladu zrušení spoluvlastnictví\n• novelizace občanského zákoníku a podílové spoluvlastnictví \nCílem semináře je zaměřit se na oblast likvidace spoluvlastnického vztahu z hlediska současné rozhodovací praxe Nejvyššího soudu České republiky\, neboť jde o problematiku\, ve které Nejvyšší soud přijal zřejmě nejvíce rozhodnutí již v poměrech nového občanského zákoníku. Seminář bude zaměřen na vysvětlení přístupu soudní praxe z hlediska\, která dosavadní judikatura bude i nadále použitelná a která nikoliv\, jakož i na uvedení praktických příkladů\, na kterých budou dopady soudní praxe prezentovány. Samostatná pozornost bude věnována rozhodnutím\, která budou vykládat novou právní úpravu tam\, kde zákon č. 40/1964 Sb.\, občanský zákoník\, obdobnou úpravu neobsahoval. Současně bude stručně věnována pozornost tzv. správě společné věci z pohledu dosavadní rozhodovací praxe Nejvyššího soudu.
URL:https://www.uniespravcu.cz/event/podilove-spoluvlastnictvi/
LOCATION:OC NOSRETI\, Křenová 409/52\, Brno\, Česká republika
CATEGORIES:Školení a kurzy
ORGANIZER;CN="Unie%20spolk%C5%AF%20insolven%C4%8Dn%C3%ADch%20spr%C3%A1vc%C5%AF%20prost%C5%99ednictv%C3%ADm%20ACCRETION%20s.r.o.":MAILTO:info@uniespravcu.cz
END:VEVENT
END:VCALENDAR