BEGIN:VCALENDAR
VERSION:2.0
PRODID:-//Unie správců - ECPv5.16.4//NONSGML v1.0//EN
CALSCALE:GREGORIAN
METHOD:PUBLISH
X-WR-CALNAME:Unie správců
X-ORIGINAL-URL:https://www.uniespravcu.cz
X-WR-CALDESC:Akce na Unie správců
BEGIN:VTIMEZONE
TZID:Europe/Paris
BEGIN:DAYLIGHT
TZOFFSETFROM:+0100
TZOFFSETTO:+0200
TZNAME:CEST
DTSTART:20220327T010000
END:DAYLIGHT
BEGIN:STANDARD
TZOFFSETFROM:+0200
TZOFFSETTO:+0100
TZNAME:CET
DTSTART:20221030T010000
END:STANDARD
END:VTIMEZONE
BEGIN:VEVENT
DTSTART;TZID=Europe/Paris:20220209T100000
DTEND;TZID=Europe/Paris:20220209T153000
DTSTAMP:20260419T212456
CREATED:20220117T132758Z
LAST-MODIFIED:20220119T102621Z
UID:3553-1644400800-1644420600@www.uniespravcu.cz
SUMMARY:Pohledávky v insolvenčním řízení + AOIŘ s JUDr. Maršíkovou - on.line
DESCRIPTION:Termín konání: 9. února 2022 – v době od 10:00 – 15:30 hodin \n  \nPřednášející: JUDr. Jolana Maršíková\, soudkyně a místopředsedkyně KS H. Králové \n  \nCena WEB semináře: 2.190\,- Kč * – sleva pro člena Unie spolků insolvenčních správců 1.000\,- Kč\n* (k částce bude připočteno DPH v příslušné výši) \n  \nPřihlásit se můžete prostřednictvím přiložené přihlášky  Přihláška ZDE:   na adresu: seminare@accretion.cz \nPo obdržení přihlášky Vám bude vystavena zálohová faktura a zaslána na Vaší e-mailovou adresu k úhradě. Platbu nutno provést do 04.02.2022 na účet číslo: 249438382/0300 vedený u ČSOB\, a.s. Opava\, pod variabilním symbolem – číslo zálohové faktury (do poznámky uveďte jméno plátce). Daňový doklad bude předán při prezenci. \n  \nMateriály (prezentace) k semináři a odkaz pro přihlášení do „místnosti“ obdržíte 2-3 dny předem. \n  \nProgram: \nI.    Pohledávky v insolvenčním řízení \n\n-zajištěné pohledávky\n-pohledávky na náhradu škody způsobené trestným činem\n-podřízené pohledávky\n-pohledávky vázané na podmínku\n-pohledávky vyloučené z uspokojení v rámci Insolvenčního řízení\n\nII.   Aktuální otázky oddlužení
URL:https://www.uniespravcu.cz/event/pohledavky-insolvencnim-rizeni-aoir-judr-marsikovou/
CATEGORIES:Školení a kurzy
ORGANIZER;CN="Unie%20spolk%C5%AF%20insolven%C4%8Dn%C3%ADch%20spr%C3%A1vc%C5%AF%20prost%C5%99ednictv%C3%ADm%20ACCRETION%20s.r.o.":MAILTO:info@ismorava.cz
END:VEVENT
END:VCALENDAR