BEGIN:VCALENDAR
VERSION:2.0
PRODID:-//Unie správců - ECPv5.16.4//NONSGML v1.0//EN
CALSCALE:GREGORIAN
METHOD:PUBLISH
X-WR-CALNAME:Unie správců
X-ORIGINAL-URL:https://www.uniespravcu.cz
X-WR-CALDESC:Akce na Unie správců
BEGIN:VTIMEZONE
TZID:Europe/Paris
BEGIN:DAYLIGHT
TZOFFSETFROM:+0100
TZOFFSETTO:+0200
TZNAME:CEST
DTSTART:20170326T010000
END:DAYLIGHT
BEGIN:STANDARD
TZOFFSETFROM:+0200
TZOFFSETTO:+0100
TZNAME:CET
DTSTART:20171029T010000
END:STANDARD
END:VTIMEZONE
BEGIN:VEVENT
DTSTART;TZID=Europe/Paris:20170920T093000
DTEND;TZID=Europe/Paris:20170920T153000
DTSTAMP:20260420T200503
CREATED:20170724T112702Z
LAST-MODIFIED:20170725T081913Z
UID:2716-1505899800-1505921400@www.uniespravcu.cz
SUMMARY:První praktické zkušenosti s aplikací novely insolvenčního zákona - Ostrava_Zábřeh
DESCRIPTION:Přednášející:  JUDr. Jolana Maršíková\, soudkyně a místopředsedkyně KS v H. Králové \n  \nCena: 1.990\,- Kč…..(cena je uvedená bez 21% DPH) – členové Spolku moravských insolvenčních správců sleva 1.000\,- Kč \n  \nPřihlásit se můžete prostřednictvím přiložené přihlášky  2017_09_20_Prihlaska_OVA   na adresu: info@ismorava.cz  nebo seminare@accretion.cz  nejpozději do 15. 9. 2017 \n  \nPo obdržení přihlášky Vám bude vystavena zálohová faktura a zaslána na Vaší e-mailovou adresu k úhradě. Platbu nutno provést do 15. 9. 2017 na účet číslo:  249438382/ 0300  vedený u ČSOB\, a.s. Opava\, pod variabilním symbolem – číslo zálohové faktury (do poznámky uveďte jméno plátce).  Daňový doklad bude předán při prezenci. \n  \nÚčastnický poplatek zahrnuje 1 školící den\, občerstvení po celý den vč. oběda a nelze jej vrátit. \n  \nObsah přednášky\n\nPředběžné posouzení insolvenčního návrhu\nPřezkum pohledávek v režimu oddlužení\nPředpoklady pro povolení oddlužení a sepis insolvenčního návrhu spojeného s návrhem na povolení oddlužení\nNároky insolvenčního správce v oddlužení\nProváděcí předpisy k novele insolvenčního zákona\nProblém aplikace novely v dříve zahájených insolvenčního řízeních\nDalší aktuální výkladové problémy (již bez nutné návaznosti na novelu)
URL:https://www.uniespravcu.cz/event/prvni-prakticke-zkusenosti-s-aplikaci-novely-insolvencniho-zakona-ostrava_zabreh/
LOCATION:KD AKORD\, nám. SNP 1\, Ostrava-Zábřeh\, Moravskoslezský\, 70030\, Česká republika
CATEGORIES:Školení a kurzy
ORGANIZER;CN="Unie%20spolk%C5%AF%20insolven%C4%8Dn%C3%ADch%20spr%C3%A1vc%C5%AF%20prost%C5%99ednictv%C3%ADm%20ACCRETION%20s.r.o.":MAILTO:info@ismorava.cz
END:VEVENT
END:VCALENDAR