BEGIN:VCALENDAR
VERSION:2.0
PRODID:-//Unie správců - ECPv5.16.4//NONSGML v1.0//EN
CALSCALE:GREGORIAN
METHOD:PUBLISH
X-WR-CALNAME:Unie správců
X-ORIGINAL-URL:https://www.uniespravcu.cz
X-WR-CALDESC:Akce na Unie správců
BEGIN:VTIMEZONE
TZID:Europe/Paris
BEGIN:DAYLIGHT
TZOFFSETFROM:+0100
TZOFFSETTO:+0200
TZNAME:CEST
DTSTART:20180325T010000
END:DAYLIGHT
BEGIN:STANDARD
TZOFFSETFROM:+0200
TZOFFSETTO:+0100
TZNAME:CET
DTSTART:20181028T010000
END:STANDARD
END:VTIMEZONE
BEGIN:VEVENT
DTSTART;TZID=Europe/Paris:20180420T090000
DTEND;TZID=Europe/Paris:20180420T161500
DTSTAMP:20260420T195007
CREATED:20180403T103741Z
LAST-MODIFIED:20180403T104058Z
UID:2910-1524214800-1524240900@www.uniespravcu.cz
SUMMARY:Význam času v právu – počítání času\, promlčení a zánik práva
DESCRIPTION:Kód: 18042008 \nTermín konání:      20. dubna 2018  – v době od 9:00 – 16:15 hodin\n(prezence od 8:30 hod.) \nMísto konání:  GreenPoint\, s.r.o.\nDvouletky 529/ 42\, Praha 10 (parkování ZDARMA v areálu KC) \nPřednášející:  JUDr. Petr Čech\, Ph.D.\, LL.M.\nodborný asistent na katedře obchodního práva Právnické fakulty UK\,\nspolupracovník advokátní kanceláře Glatzová a spol.\,\nporadce ministra spravedlnosti\, byl členem expertní skupiny pro NOZ \nCena: 2290\,- Kč\nCena pro člena Unie spolků insolvenčních správců 1790\,- Kč\n(ke všem částkám bude připočteno DPH ve výši 21%) \n  \nPřihlásit se můžete prostřednictvím přiložené přihlášky 2018_04_20 Přihláška na adresu: seminare@accretion.cz nejpozději do 13. 04. 2018.\nPo obdržení přihlášky Vám bude vystavena zálohová faktura a zaslána na Vaší e-mailovou adresu k úhradě. Platbu nutno provést do 13. 04. 2018 na účet číslo:  249438382/ 0300  vedený u ČSOB\, a.s. Opava\, pod variabilním symbolem – číslo zálohové faktury (do poznámky uveďte jméno plátce). Daňový doklad bude předán při prezenci. \nÚčastnický poplatek zahrnuje 1 školící den včetně podkladů\, občerstvení po celý den vč. oběda a nelze jej vrátit. \nSvé návrhy na obsah přednášky a dotazy ke zpracování prosím zašlete v době co nejkratší na adresu: info@uniespravcu.cz  nebo seminare@accretion.cz \n  \n  \nDěkujeme a budeme se těšit na vaši účast na semináři. \nObsah přednášky: \n\nzákladní pravidla pro počítání času (lhůta vs. doba\, přirozené vs. právní počítání aj.)\n\n  \n\nčasové určení vs. podmínka a jejich možné kombinace\n\n  \n\npojem a podstata promlčení\, která práva (ne)podléhají promlčení \n\n  \n\nobecná promlčecí lhůta (subjektivní\, objektivní) a její počátek\n\n  \n\nzvláštní promlčecí lhůty a jejich počátek (promlčení práv ze smlouvy\, včetně příslušenství či práva na smluvní pokutu\, promlčení práva na náhradu škody\, promlčení věcných práv\, zvláštnosti promlčení u zajištění) \n\n  \n\npřetržení (uznání dluhu – jeho náležitosti\, důsledky) vs. stavění běhu promlčecí lhůty (např. souhlas s jednáním o právu a praktická rizika s ním spojená)\n\n  \n\nprekluze (zánik) práva
URL:https://www.uniespravcu.cz/event/vyznam-casu-v-pravu-pocitani-casu-promlceni-a-zanik-prava/
LOCATION:GreenPoint\, s.r.o.\, Dvouletky 529/42\, Praha\, Středočeský\, 10000\, Česká republika
CATEGORIES:Školení a kurzy
ORGANIZER;CN="Unie%20spolk%C5%AF%20insolven%C4%8Dn%C3%ADch%20spr%C3%A1vc%C5%AF%20prost%C5%99ednictv%C3%ADm%20ACCRETION%20s.r.o.":MAILTO:info@ismorava.cz
END:VEVENT
END:VCALENDAR