BEGIN:VCALENDAR
VERSION:2.0
PRODID:-//Unie správců - ECPv5.16.4//NONSGML v1.0//EN
CALSCALE:GREGORIAN
METHOD:PUBLISH
X-WR-CALNAME:Unie správců
X-ORIGINAL-URL:https://www.uniespravcu.cz
X-WR-CALDESC:Akce na Unie správců
BEGIN:VTIMEZONE
TZID:Europe/Paris
BEGIN:DAYLIGHT
TZOFFSETFROM:+0100
TZOFFSETTO:+0200
TZNAME:CEST
DTSTART:20190331T010000
END:DAYLIGHT
BEGIN:STANDARD
TZOFFSETFROM:+0200
TZOFFSETTO:+0100
TZNAME:CET
DTSTART:20191027T010000
END:STANDARD
END:VTIMEZONE
BEGIN:VEVENT
DTSTART;TZID=Europe/Paris:20190201T090000
DTEND;TZID=Europe/Paris:20190201T160000
DTSTAMP:20260421T212318
CREATED:20190114T083918Z
LAST-MODIFIED:20190114T084327Z
UID:3139-1549011600-1549036800@www.uniespravcu.cz
SUMMARY:Základy právní úpravy jednání (za) podnikatele a náhrady škody v podnikání - Praha
DESCRIPTION:Přednášející: JUDr. Petr Čech\, Ph.D.\, LL.M. ; odborný asistent na katedře obchodního práva Právnické fakulty UK\, spolupracovník advokátní kanceláře Glatzová a spol.\, \n  \nCena: 2.450\,- Kč\, cena pro člena Unie spolků insolvenčních správců 2.050\,- Kč (ke všem částkám bude připočteno DPH ve výši 21%) \nCena oběd (polévka a hlavní chod): 151\,- Kč (k částce bude připočteno DPH ve výši 15%\, obědy nejsou povinnou součástí účastnického poplatku). \n  \nPřihlásit se můžete prostřednictvím přiložené přihlášky  přihláška ZDE  na adresu: seminare@accretion.cz nejpozději do 28.1.2019. \nPo obdržení přihlášky Vám bude vystavena zálohová faktura a zaslána na Vaší e-mailovou adresu k úhradě. Platbu nutno provést do 29.1.2019 na účet číslo:  249438382/ 0300  vedený u ČSOB\, a.s. Opava\, pod variabilním symbolem – číslo zálohové faktury (do poznámky uveďte jméno plátce). Daňový doklad bude předán při prezenci. \n  \nÚčastnický poplatek zahrnuje 1 školící den včetně podkladů\, občerstvení během školících bloků a nelze jej vrátit. \n\nObsah přednášky:\n  \nZastupování obchodní společnosti členem statutárního orgánu\n• rozsah zástupčího oprávnění člena statutárního orgánu\n• způsob zastupování a jeho nedodržení\n• vnitřní omezení a jejich nedodržení\n• zastupování v zájmové kolizi / při vnitřním obchodování \n  \nSmluvní / zákonné zastoupení podnikatele / společné otázky\n• prokura / filiální prokura\n• zastoupení osobami pověřenými určitou činností při provozu závodu\n• plná moc a její náležitosti\, určitost i forma\n• kdy jednání (ne)váže zastoupeného (jak spolehlivě projevit\, že jednáním má být vázán zastoupený\, nikoliv zástupce)\n• jak přesně v písemném právním jednání označit osobu podepisující za podnikatele a důvod jejího oprávnění zastupovat \n  \nNáhrada škody\n• pojem škody\, rozsah a způsob její náhrady\n• meze dovolenosti (předem) vyloučit / limitovat právo na náhradu újmy\n• náhrada škody způsobené jednatelem\, zaměstnancem či jinou osobou\, kterou smluvní strana použila k plnění svého závazku (subdodavatelem) / při své činnosti\n• příčinná souvislost\n• kontraktní vs. deliktní odpovědnost (vs. úmyslné jednání proti dobrým mravům)\n• vybrané zvláštní skutkové podstaty odpovědnosti za škodu
URL:https://www.uniespravcu.cz/event/zaklady-pravni-upravy-jednani-za-podnikatele-a-nahrady-skody-v-podnikani-praha/
LOCATION:Bredovský Dvůr (konf. místnost SYDNEY)\, Olivova 2096/4\, Praha\, Hl. město Praha\, 11000\, Česká republika
CATEGORIES:Školení a kurzy
ORGANIZER;CN="Unie%20spolk%C5%AF%20insolven%C4%8Dn%C3%ADch%20spr%C3%A1vc%C5%AF%20prost%C5%99ednictv%C3%ADm%20ACCRETION%20s.r.o.":MAILTO:info@ismorava.cz
END:VEVENT
END:VCALENDAR